BEGIN:VCALENDAR
VERSION:2.0
PRODID:-//DBwV KERH Ahrweiler - ECPv6.15.17//NONSGML v1.0//EN
CALSCALE:GREGORIAN
METHOD:PUBLISH
X-ORIGINAL-URL:https://www.dbwv-kerh-aw.de
X-WR-CALDESC:Veranstaltungen für DBwV KERH Ahrweiler
REFRESH-INTERVAL;VALUE=DURATION:PT1H
X-Robots-Tag:noindex
X-PUBLISHED-TTL:PT1H
BEGIN:VTIMEZONE
TZID:Europe/Berlin
BEGIN:DAYLIGHT
TZOFFSETFROM:+0100
TZOFFSETTO:+0200
TZNAME:CEST
DTSTART:20230326T010000
END:DAYLIGHT
BEGIN:STANDARD
TZOFFSETFROM:+0200
TZOFFSETTO:+0100
TZNAME:CET
DTSTART:20231029T010000
END:STANDARD
BEGIN:DAYLIGHT
TZOFFSETFROM:+0100
TZOFFSETTO:+0200
TZNAME:CEST
DTSTART:20240331T010000
END:DAYLIGHT
BEGIN:STANDARD
TZOFFSETFROM:+0200
TZOFFSETTO:+0100
TZNAME:CET
DTSTART:20241027T010000
END:STANDARD
BEGIN:DAYLIGHT
TZOFFSETFROM:+0100
TZOFFSETTO:+0200
TZNAME:CEST
DTSTART:20250330T010000
END:DAYLIGHT
BEGIN:STANDARD
TZOFFSETFROM:+0200
TZOFFSETTO:+0100
TZNAME:CET
DTSTART:20251026T010000
END:STANDARD
END:VTIMEZONE
BEGIN:VEVENT
DTSTART;TZID=Europe/Berlin:20241202T150000
DTEND;TZID=Europe/Berlin:20241202T150000
DTSTAMP:20260421T113211
CREATED:20240118T103959Z
LAST-MODIFIED:20240202T193758Z
UID:2834-1733151600-1733151600@www.dbwv-kerh-aw.de
SUMMARY:Damenkaffee
DESCRIPTION:Koordinatorin: Ingrid Mecklenburg (Tel.: 02641 6608)\nVeranstaltungsort: Hotel zum Stern\, Marktplatz 9 in 53474 Bad Neuenahr-Ahrweiler\nBeginn: 15:00 Uhr
URL:https://www.dbwv-kerh-aw.de/event/damenkaffee-25/
LOCATION:Hotel Zum Stern\, Am Markt 9\, 53474\, RLP\, 53474\, Deutschland
CATEGORIES:Damengruppe
END:VEVENT
END:VCALENDAR