BEGIN:VCALENDAR
VERSION:2.0
PRODID:-//DBwV KERH Ahrweiler - ECPv6.15.17//NONSGML v1.0//EN
CALSCALE:GREGORIAN
METHOD:PUBLISH
X-WR-CALNAME:DBwV KERH Ahrweiler
X-ORIGINAL-URL:https://www.dbwv-kerh-aw.de
X-WR-CALDESC:Veranstaltungen für DBwV KERH Ahrweiler
REFRESH-INTERVAL;VALUE=DURATION:PT1H
X-Robots-Tag:noindex
X-PUBLISHED-TTL:PT1H
BEGIN:VTIMEZONE
TZID:Europe/Berlin
BEGIN:DAYLIGHT
TZOFFSETFROM:+0100
TZOFFSETTO:+0200
TZNAME:CEST
DTSTART:20230326T010000
END:DAYLIGHT
BEGIN:STANDARD
TZOFFSETFROM:+0200
TZOFFSETTO:+0100
TZNAME:CET
DTSTART:20231029T010000
END:STANDARD
BEGIN:DAYLIGHT
TZOFFSETFROM:+0100
TZOFFSETTO:+0200
TZNAME:CEST
DTSTART:20240331T010000
END:DAYLIGHT
BEGIN:STANDARD
TZOFFSETFROM:+0200
TZOFFSETTO:+0100
TZNAME:CET
DTSTART:20241027T010000
END:STANDARD
BEGIN:DAYLIGHT
TZOFFSETFROM:+0100
TZOFFSETTO:+0200
TZNAME:CEST
DTSTART:20250330T010000
END:DAYLIGHT
BEGIN:STANDARD
TZOFFSETFROM:+0200
TZOFFSETTO:+0100
TZNAME:CET
DTSTART:20251026T010000
END:STANDARD
END:VTIMEZONE
BEGIN:VEVENT
DTSTART;TZID=Europe/Berlin:20241205T180000
DTEND;TZID=Europe/Berlin:20241205T235900
DTSTAMP:20260421T113114
CREATED:20240118T103238Z
LAST-MODIFIED:20240118T103238Z
UID:2820-1733421600-1733443140@www.dbwv-kerh-aw.de
SUMMARY:Jahresabschlussfeier
DESCRIPTION:Anmeldung durch Überweisung des\nKostenbeitrages in Höhe von \nKostenbeitrag noch nicht ermittelt\n(siehe Rundbrief 2/2024) \n  \nAnmeldung ab: 21.10.2024\nStichwort: JAF KERH 2024 Anmeldeschluss: 25.11.2024
URL:https://www.dbwv-kerh-aw.de/event/jahresabschlussfeier-3/
LOCATION:Hotel Zum Stern\, Am Markt 9\, 53474\, RLP\, 53474\, Deutschland
CATEGORIES:Allgemeine Veranstaltungen
END:VEVENT
END:VCALENDAR