BEGIN:VCALENDAR
VERSION:2.0
PRODID:-//DBwV KERH Ahrweiler - ECPv6.15.17//NONSGML v1.0//EN
CALSCALE:GREGORIAN
METHOD:PUBLISH
X-WR-CALNAME:DBwV KERH Ahrweiler
X-ORIGINAL-URL:https://www.dbwv-kerh-aw.de
X-WR-CALDESC:Veranstaltungen für DBwV KERH Ahrweiler
REFRESH-INTERVAL;VALUE=DURATION:PT1H
X-Robots-Tag:noindex
X-PUBLISHED-TTL:PT1H
BEGIN:VTIMEZONE
TZID:Europe/Berlin
BEGIN:DAYLIGHT
TZOFFSETFROM:+0100
TZOFFSETTO:+0200
TZNAME:CEST
DTSTART:20240331T010000
END:DAYLIGHT
BEGIN:STANDARD
TZOFFSETFROM:+0200
TZOFFSETTO:+0100
TZNAME:CET
DTSTART:20241027T010000
END:STANDARD
BEGIN:DAYLIGHT
TZOFFSETFROM:+0100
TZOFFSETTO:+0200
TZNAME:CEST
DTSTART:20250330T010000
END:DAYLIGHT
BEGIN:STANDARD
TZOFFSETFROM:+0200
TZOFFSETTO:+0100
TZNAME:CET
DTSTART:20251026T010000
END:STANDARD
BEGIN:DAYLIGHT
TZOFFSETFROM:+0100
TZOFFSETTO:+0200
TZNAME:CEST
DTSTART:20260329T010000
END:DAYLIGHT
BEGIN:STANDARD
TZOFFSETFROM:+0200
TZOFFSETTO:+0100
TZNAME:CET
DTSTART:20261025T010000
END:STANDARD
END:VTIMEZONE
BEGIN:VEVENT
DTSTART;TZID=Europe/Berlin:20250816T140000
DTEND;TZID=Europe/Berlin:20250816T140000
DTSTAMP:20260420T224627
CREATED:20250703T211014Z
LAST-MODIFIED:20250703T211507Z
UID:3487-1755352800-1755352800@www.dbwv-kerh-aw.de
SUMMARY:sKERH Westerwald: Familientag an/in der SkiHütte Salzburger Kopf
DESCRIPTION:Weitere Informationen und die Anmeldung
URL:https://www.dbwv-kerh-aw.de/event/familientag-an-in-der-skihuette-salzburger-kopf/
LOCATION:Skihütte Salzburger Kopf (Westerwald)
END:VEVENT
END:VCALENDAR