BEGIN:VCALENDAR
VERSION:2.0
PRODID:-//DBwV KERH Ahrweiler - ECPv6.15.17//NONSGML v1.0//EN
CALSCALE:GREGORIAN
METHOD:PUBLISH
X-ORIGINAL-URL:https://www.dbwv-kerh-aw.de
X-WR-CALDESC:Veranstaltungen für DBwV KERH Ahrweiler
REFRESH-INTERVAL;VALUE=DURATION:PT1H
X-Robots-Tag:noindex
X-PUBLISHED-TTL:PT1H
BEGIN:VTIMEZONE
TZID:Europe/Berlin
BEGIN:DAYLIGHT
TZOFFSETFROM:+0100
TZOFFSETTO:+0200
TZNAME:CEST
DTSTART:20240331T010000
END:DAYLIGHT
BEGIN:STANDARD
TZOFFSETFROM:+0200
TZOFFSETTO:+0100
TZNAME:CET
DTSTART:20241027T010000
END:STANDARD
BEGIN:DAYLIGHT
TZOFFSETFROM:+0100
TZOFFSETTO:+0200
TZNAME:CEST
DTSTART:20250330T010000
END:DAYLIGHT
BEGIN:STANDARD
TZOFFSETFROM:+0200
TZOFFSETTO:+0100
TZNAME:CET
DTSTART:20251026T010000
END:STANDARD
BEGIN:DAYLIGHT
TZOFFSETFROM:+0100
TZOFFSETTO:+0200
TZNAME:CEST
DTSTART:20260329T010000
END:DAYLIGHT
BEGIN:STANDARD
TZOFFSETFROM:+0200
TZOFFSETTO:+0100
TZNAME:CET
DTSTART:20261025T010000
END:STANDARD
END:VTIMEZONE
BEGIN:VEVENT
DTSTART;VALUE=DATE:20250903
DTEND;VALUE=DATE:20250904
DTSTAMP:20260420T224923
CREATED:20250626T165121Z
LAST-MODIFIED:20250626T165121Z
UID:3454-1756857600-1756943999@www.dbwv-kerh-aw.de
SUMMARY:Tagesfahrt nach Trier
DESCRIPTION:Reisepreis: 60\,- € \nAnmeldeschluss: 24.08.2025 \nKoordinator Reisen und Koordinatorin Damengruppe \nWeitere Informationen bei Veranstaltungen
URL:https://www.dbwv-kerh-aw.de/event/tagesfahrt-nach-trier/
LOCATION:Trier
END:VEVENT
END:VCALENDAR