BEGIN:VCALENDAR
VERSION:2.0
PRODID:-//DBwV KERH Ahrweiler - ECPv6.15.17//NONSGML v1.0//EN
CALSCALE:GREGORIAN
METHOD:PUBLISH
X-WR-CALNAME:DBwV KERH Ahrweiler
X-ORIGINAL-URL:https://www.dbwv-kerh-aw.de
X-WR-CALDESC:Veranstaltungen für DBwV KERH Ahrweiler
REFRESH-INTERVAL;VALUE=DURATION:PT1H
X-Robots-Tag:noindex
X-PUBLISHED-TTL:PT1H
BEGIN:VTIMEZONE
TZID:Europe/Berlin
BEGIN:DAYLIGHT
TZOFFSETFROM:+0100
TZOFFSETTO:+0200
TZNAME:CEST
DTSTART:20240331T010000
END:DAYLIGHT
BEGIN:STANDARD
TZOFFSETFROM:+0200
TZOFFSETTO:+0100
TZNAME:CET
DTSTART:20241027T010000
END:STANDARD
BEGIN:DAYLIGHT
TZOFFSETFROM:+0100
TZOFFSETTO:+0200
TZNAME:CEST
DTSTART:20250330T010000
END:DAYLIGHT
BEGIN:STANDARD
TZOFFSETFROM:+0200
TZOFFSETTO:+0100
TZNAME:CET
DTSTART:20251026T010000
END:STANDARD
BEGIN:DAYLIGHT
TZOFFSETFROM:+0100
TZOFFSETTO:+0200
TZNAME:CEST
DTSTART:20260329T010000
END:DAYLIGHT
BEGIN:STANDARD
TZOFFSETFROM:+0200
TZOFFSETTO:+0100
TZNAME:CET
DTSTART:20261025T010000
END:STANDARD
END:VTIMEZONE
BEGIN:VEVENT
DTSTART;TZID=Europe/Berlin:20251014T094500
DTEND;TZID=Europe/Berlin:20251014T150000
DTSTAMP:20260420T180244
CREATED:20250703T205625Z
LAST-MODIFIED:20250703T205625Z
UID:3479-1760435100-1760454000@www.dbwv-kerh-aw.de
SUMMARY:Abenteuer Vulkan-Eifel – der Lava-Dome – Deutsches Vulkanmuseum Mendig
DESCRIPTION:Wie schon bei früheren Gelegenheiten möchte die KERH Euskirchen gemeinsam mit den Kameradschaften sKERH Westerwald\, KERH Ahrweiler\, KERH Mayen-Andernach-Mendig und anderen das Vulkanmuseum Mendig besuchen. \nHier die Einladung\, weitere Informationen und die Anmeldung
URL:https://www.dbwv-kerh-aw.de/event/abenteuer-vulkan-eifel-der-lava-dome-deutsches-vulkanmuseum-mendig/
LOCATION:Mendig
END:VEVENT
BEGIN:VEVENT
DTSTART;TZID=Europe/Berlin:20251016T180000
DTEND;TZID=Europe/Berlin:20251016T210000
DTSTAMP:20260420T180244
CREATED:20250218T170458Z
LAST-MODIFIED:20250626T165625Z
UID:3293-1760637600-1760648400@www.dbwv-kerh-aw.de
SUMMARY:Oktoberfest
DESCRIPTION:18:00 Uhr im Hotel Stern\, Ahrweiler \nAnmeldung durch Überweisung des Kostenbeitrags.\nAnmeldezeitraum: 1.-30.09.2025 \nWeitere Informationen in der Rubrik Veranstaltungen
URL:https://www.dbwv-kerh-aw.de/event/oktoberfest-5/
LOCATION:Hotel Zum Stern\, Am Markt 9\, 53474\, RLP\, 53474\, Deutschland
END:VEVENT
BEGIN:VEVENT
DTSTART;VALUE=DATE:20251018
DTEND;VALUE=DATE:20251019
DTSTAMP:20260420T180244
CREATED:20250626T165741Z
LAST-MODIFIED:20250626T165741Z
UID:3461-1760745600-1760831999@www.dbwv-kerh-aw.de
SUMMARY:Wanderung - Königsfeld-Bachem
DESCRIPTION:Startzeit/-ort werden bei der Anmeldung bekannt gegeben. \nKoordinator Wandergruppe
URL:https://www.dbwv-kerh-aw.de/event/wanderung-koenigsfeld-bachem/
END:VEVENT
END:VCALENDAR